BEGIN:VCALENDAR
VERSION:2.0
PRODID:icalendar-ruby
CALSCALE:GREGORIAN
METHOD:PUBLISH
BEGIN:VEVENT
DTSTAMP:20260421T095826Z
UID:13-250801@meadowridgebc.com
DTSTART:20260501T000000Z
DTEND:20260501T030000Z
CLASS:PUBLIC
CREATED:20260405T052650
DESCRIPTION:
LAST-MODIFIED:20260405T052650
LOCATION:
SUMMARY:Maiden's Jive After Five
URL;VALUE=URI:https://www.meadowridgebc.com/events/maidens-jive-after-five/
 2026-04-30
ATTACH;FILENAME=Mylon-Hayes-Family.jpg;FMTTYPE=image/jpeg:https://dq5pwpg1q
 8ru0.cloudfront.net/2026/04/05/12/26/50/73ab437d-57be-41f6-90c6-d1a9202ea2
 d2/Mylon-Hayes-Family.jpg
END:VEVENT
END:VCALENDAR
