BEGIN:VCALENDAR
VERSION:2.0
PRODID:icalendar-ruby
CALSCALE:GREGORIAN
METHOD:PUBLISH
BEGIN:VEVENT
DTSTAMP:20260421T100750Z
UID:15-250803@meadowridgebc.com
DTSTART;VALUE=DATE:20260518
DTEND;VALUE=DATE:20260518
CLASS:PUBLIC
CREATED:20260405T053305
DESCRIPTION:
LAST-MODIFIED:20260405T053305
LOCATION:Boger City Baptist
SUMMARY:Senior Adult Rally
URL;VALUE=URI:https://www.meadowridgebc.com/events/senior-adult-rally/2026-
 05-18
END:VEVENT
END:VCALENDAR
