BEGIN:VCALENDAR
VERSION:2.0
PRODID:icalendar-ruby
CALSCALE:GREGORIAN
METHOD:PUBLISH
BEGIN:VEVENT
DTSTAMP:20260421T095425Z
UID:14-250804@meadowridgebc.com
DTSTART;VALUE=DATE:20260517
DTEND;VALUE=DATE:20260520
CLASS:PUBLIC
CREATED:20260405T053330
DESCRIPTION:
LAST-MODIFIED:20260405T053330
LOCATION:Meadow Ridge Baptist Church
SUMMARY:Spring Revival
URL;VALUE=URI:https://www.meadowridgebc.com/events/spring-revival/2026-05-1
 7
ATTACH;FILENAME=121D16A6-8271-4660-9B31-C8D1CD58F49B-2000x1125.jpeg;FMTTYPE
 =image/jpeg:https://dq5pwpg1q8ru0.cloudfront.net/2026/04/05/12/30/45/7b0bb
 c62-8482-426d-b5de-fd5055e6f2e0/121D16A6-8271-4660-9B31-C8D1CD58F49B-2000x
 1125.jpeg
END:VEVENT
END:VCALENDAR
