BEGIN:VCALENDAR
VERSION:2.0
PRODID:icalendar-ruby
CALSCALE:GREGORIAN
METHOD:PUBLISH
BEGIN:VEVENT
DTSTAMP:20260421T100705Z
UID:16-250806@meadowridgebc.com
DTSTART;VALUE=DATE:20260712
DTEND;VALUE=DATE:20260715
CLASS:PUBLIC
CREATED:20260413T075625
DESCRIPTION:
LAST-MODIFIED:20260413T075625
LOCATION:Meadow Ridge Baptist Church
SUMMARY:VBS - Emerald Crossing
URL;VALUE=URI:https://www.meadowridgebc.com/events/vbs-emerald-crossing/202
 6-07-12
ATTACH;FILENAME=1231070-media-01__36401.jpg;FMTTYPE=image/jpeg:https://dq5p
 wpg1q8ru0.cloudfront.net/2026/04/05/12/35/22/6673a375-8a32-4d57-a95d-a65ee
 33190d6/1231070-media-01__36401.jpg
END:VEVENT
END:VCALENDAR
